BEGIN:VCALENDAR
VERSION:2.0
CALSCALE:GREGORIAN
PRODID:-//MyApp//Calendar 1.0//EN
BEGIN:VEVENT
METHOD:PUBLISH
UID:36215@regionalniportaly.cz
DTSTAMP:20260422T080951Z
DTSTART;VALUE=DATE:20240217
DTEND;VALUE=DATE:20240218
SUMMARY:ÚVĚR | Kralupy nad Vltavou
DESCRIPTION:Populární komedie s Martinem Zounarem a Filipem Blažkem v hlavních rolích&nbsp\;v Kralupech nad Vltavou!Ředitel banky Gregorio má skvělý život\, lukrativní místo a krásnou ženu. A právě ve chvíli\, kdy se cítí možná až příliš pevně v sedle\, objeví se nesolventní žadatel o úvěr Antonio. Gregorio mu žádost o úvěr razantně zamítne. Antonio je ale neodbytný a vyhrožuje mu\, že když nedostane úvěr\, svede mu ženu. Má totiž obrovské svůdcovské schopnosti a nikdy mu žádná neodolala. Gregorio mu úvěr nedá\, ale raději zavolá své manželce\, aby si dala na Antonia pozor. Jeho žena se rozčílí\, že ji takhle ohrožuje kvůli nějakému směšnému úvěru a nekompromisně ho vyhodí z domu. Gregorio chce svou ženu zpět\, ale neví\, jak to udělat. Aby svou ženu opět okouzlil\, musel by mít nějaké svůdcovské schopnosti\, ty ale nikdy neměl. A tak musí chtě nechtě požádat o pomoc zkušeného svůdníka Antonia. Pomůže Antonio svést zoufalému Gregoriovi jeho ženu? Dostane požadovaný úvěr? A kdo nad kým nakonec zvítězí?JORDI GALCERÁN: ÚVĚR (El crédito)Překlad&nbsp\;Ivan JerglRežie&nbsp\;Antonín ProcházkaÚčinkují&nbsp\;Martin Zounar\, Filip Blažek
LOCATION:Kralupy nad Vltavou
END:VEVENT
END:VCALENDAR