BEGIN:VCALENDAR
VERSION:2.0
CALSCALE:GREGORIAN
PRODID:-//MyApp//Calendar 1.0//EN
BEGIN:VEVENT
METHOD:PUBLISH
UID:36773@regionalniportaly.cz
DTSTAMP:20260422T081020Z
DTSTART;VALUE=DATE:20240411
DTEND;VALUE=DATE:20240412
SUMMARY:Vím\, že víš\, že vím v Kralupech
DESCRIPTION:HRA\, VE KTERÉ SE SNOUBÍ VŠECHNO\, CO V DOBRÉ KOMEDII NESMÍ CHYBĚT.Rodinný život manželů Bonettiových a jejich dospívající dcery se pohybuje zdánlivě v každodenní jednotvárnosti. Fabio věnuje většinu svého času práci v&nbsp\;bance a koukání na fotbalové zápasy v&nbsp\;televizi. Jednoho dne zjistí\, že jeho rodina byla omylem sledována a filmována soukromým detektivem místo sousedky známého politika. Manžel se tím náramně baví a vše vypráví své ženě. Ta se zdá být naopak velmi znepokojená. Co se skrývá pod pokličkou zdánlivě všedních dní manželského páru?Mnoho všelijakých drobných tajemství\, která vedou k nedorozumění a vzájemnému odcizení. Vědět\, znamená pochopit a pochopit dává šanci napravit. Zdá se to jednoduché? Jenomže ve světě\, kde se při prvním náznaku bolesti\, nesnází a nepohody rovnou bere do zaječích\, kde se vztahy rozpadají jak na běžícím pásu bez jakéhokoli pokusu o nápravu či změnu\, natož pak nějaké sebezpytování\, je tahle několik desetiletí stará komedie vítaným připomenutím hodnot\, které považujeme za ztracené.Hrají: Simona Stašová\, Michal Dlouhý\,&nbsp\;&nbsp\;Andrea Daňková&nbsp\;/&nbsp\;Isabella Rossini\,&nbsp\;Vasil Fridrich&nbsp\;/&nbsp\;Petr Vančura
LOCATION:Kralupy nad Vltavou
END:VEVENT
END:VCALENDAR