BEGIN:VCALENDAR
VERSION:2.0
CALSCALE:GREGORIAN
PRODID:-//MyApp//Calendar 1.0//EN
BEGIN:VEVENT
METHOD:PUBLISH
UID:37443@regionalniportaly.cz
DTSTAMP:20260422T080941Z
DTSTART;VALUE=DATE:20240405
DTEND;VALUE=DATE:20240406
SUMMARY:Beatles Tribute Show 60
DESCRIPTION:Akce přesunuta z 04.04.2024 na 05.04.2024 z důvodu odstávky elektřiny ze strany ČEZ!Největší hity legendární skupiny BEATLES v Kralupech nad Vltavou!&nbsp\;Jedna z nejúspěšnějších evropských revivalových skupin - vystupuje od roku 1992 a to nejen v Čechách\, ale i Holandsku\, Polsku\, Francii\, Maďarsku\, Slovensku a dokonce i v rodišti legendární čtveřice - severoanglickém Liverpoolu! Těšit se můžete na největší hity "Brouků" téměř v originálním podání.&nbsp\;Koncert Beatles Revivalu z Kladna je opravdovou a dokonalou kopií koncertu legendárních Beatles. Jako důkaz slouží i to\, že skupina byla pozvána do rodiště Beatles - anglického Liverpoolu a tam v legendárním Cavern Clubu odehrála tři vystoupení a absolvovala hodinové interview a živý koncert v pořadu On The Beat na Liverpool BBC Merseyside Radio\, což se dosud žádné neanglické skupině nepodařilo. A nebo to\, že po vystoupení v Adelphi Hotel v Liverpoolu přišel dokonce skupině poděkovat dlouholetý tajemník Beatles Alistair Taylor a prohlásil\, že vystoupení skupiny bylo naprosto dokonalé a chvílemi prý nevěřil\, že na pódiu nehrají praví Beatles\, přestože s nimi strávil na cestách dlouhých pět let. Jedním z důkazů je též obrovský úspěch na Estrel Beatles Festivalu v Berlíně\, kde skupina svým výkonem nadchla prvního manažera Beatles Alana Williamse natolik\, že kapelu přizval ke spolupráci na projektu John Lennon Memorial. V neposlední řadě je též měřítkem úspěchu bezpočet televizních vystoupení\, například v TV Nova\, ČT1\, maďarské MTV\, polské TVP1\, slovenské TV Markíza\, německé MDF1 a dalších televizích po celé Evropě.Originální nástroje a pódiová aparatura- Sólová kytara Rickenbacker 360 Fireglow\, aparatura VOX AC30- Rytmická kytara Rickenbacker 350 Liverpool\, aparatura VOX AC30- Basová kytara Höfner Violin Bass\, aparatura VOX AC100 + VOX T100- Bicí Ludwig - Fab 4 Set\, Black Oyster FinishKostýmy- Kopie černých obleků používaných v letech 1962-64 + Beatle Chelsea Cavern Boots- Kopie šedých obleků s černými klopami z období 1963-65 + Beatle Chelsea Cavern Boots- Kopie Shea Stadium Jackets z let 1965-66 + Beatle Chelsea Cavern Boots- Kopie uniforem z alba Sgt. Pepper's Lonely Hearts Club Band
LOCATION:Kralupy nad Vltavou
END:VEVENT
END:VCALENDAR