BEGIN:VCALENDAR
VERSION:2.0
CALSCALE:GREGORIAN
PRODID:-//MyApp//Calendar 1.0//EN
BEGIN:VEVENT
METHOD:PUBLISH
UID:39456@regionalniportaly.cz
DTSTAMP:20260422T135150Z
DTSTART;VALUE=DATE:20240213
DTEND;VALUE=DATE:20240214
SUMMARY:Partička na vzduchu v KaSS Kralupy
DESCRIPTION:To je improvizační show Partička s Michalem Suchánkem\, Richardem Genzerem\, Michalem Novotným\, Jakubem Kohákem a Luďkem Staňkem.
LOCATION:Kralupy nad Vltavou
END:VEVENT
END:VCALENDAR