BEGIN:VCALENDAR
VERSION:2.0
CALSCALE:GREGORIAN
PRODID:-//MyApp//Calendar 1.0//EN
BEGIN:VEVENT
METHOD:PUBLISH
UID:43888@regionalniportaly.cz
DTSTAMP:20260424T160824Z
DTSTART;VALUE=DATE:20240720
DTEND;VALUE=DATE:20240721
SUMMARY:Zážitkový motoráček do Koněpruských jeskyní
DESCRIPTION:Zvláštní jízda motorového vozu řady 810 z Kralup nad Vltavou přes Prahu do Berouna a dále na neveřejnou vlečku Velkolomu Čertovy schody. Pěší výlet a prohlídka Koněpruských jeskyní.\n\nProhlídka muzea filmu Ostře sledované vlaky ve stanici Loděnice.\nJízda po neveřejné železniční vlečce společnosti Velkolom Čertovy schody.\nKomentovaná prohlídka Koněpruských jeskyní s místním průvodcem.\n\nJízdní řád:\nSp 91420 Kralupy nad Vltavou odjezd v 8:35.\nSp 91421 Kralupy nad Vltavou příjezd v 18:23.
LOCATION:Kralupy nad Vltavou
END:VEVENT
END:VCALENDAR