BEGIN:VCALENDAR
VERSION:2.0
CALSCALE:GREGORIAN
PRODID:-//MyApp//Calendar 1.0//EN
BEGIN:VEVENT
METHOD:PUBLISH
UID:51417@regionalniportaly.cz
DTSTAMP:20260422T115927Z
DTSTART;VALUE=DATE:20250606
DTEND;VALUE=DATE:20250607
SUMMARY:Dvořákův festival: Milí moji ...
DESCRIPTION:Milí moji ...Komponovaný pořad Františka Kinského\, potomka starého českého šlechtického rodu a průvodce oblíbeným seriálem Modrá krev\, a výjimečného klavíristy Matyáše Nováka\, vítěze řady domácích i světových soutěží\, kombinuje skladby Antonína Dvořáka\, Josefa Suka\, Leoše Janáčka a Bedřicha Smetany s výběrem z korespondence Antonína Dvořáka s těmito osobnostmi\, které přednese František Kinský.František Kinský&nbsp\;- mluvené slovoMatyáš Novák&nbsp\;- klavír
LOCATION:Nelahozeves
END:VEVENT
END:VCALENDAR