BEGIN:VCALENDAR
VERSION:2.0
CALSCALE:GREGORIAN
PRODID:-//MyApp//Calendar 1.0//EN
BEGIN:VEVENT
METHOD:PUBLISH
UID:52028@regionalniportaly.cz
DTSTAMP:20260424T090355Z
DTSTART;VALUE=DATE:20250322
DTEND;VALUE=DATE:20250323
SUMMARY:Hasičský ples - SDH Kralupy nad Vltavou
DESCRIPTION:Vážení přátelé a příznivci našeho sboru\,dovolte nám srdečně Vás pozvat na náš tradiční hasičský ples\, \nkterý se koná dne 22. března 2025 v Kulturním a společenském středisku \nVltava v Kralupech nad Vltavou. Začátek akce je ve 20:00 hodin. \nTěšit se můžete na bohatou tombolu a skvělou hudební zábavu v podání kapely Nextband.\nVstupenky jsou k dispozici v předprodeji u Jiřího Paluky (tel. 606 102 045)\nnebo je možné zakoupit přímo na místě.\nCena lidová - 250 Kč\nUpozornění: Vstup bude umožněn pouze osobám ve společenském oděvu.\nTěšíme se na Vaši účast a společně prožitý příjemný večer. 
LOCATION:Kralupy nad Vltavou
END:VEVENT
END:VCALENDAR