BEGIN:VCALENDAR
VERSION:2.0
CALSCALE:GREGORIAN
PRODID:-//MyApp//Calendar 1.0//EN
BEGIN:VEVENT
METHOD:PUBLISH
UID:53032@regionalniportaly.cz
DTSTAMP:20260424T132534Z
DTSTART;VALUE=DATE:20251031
DTEND;VALUE=DATE:20251101
SUMMARY:Milionový údržbář v Kralupech
DESCRIPTION:Jako milionář zklamal. Uspěje jako bezdomovec?Séverinu opustil manžel Jean Pierre před dvaceti lety. Opuštěná a na mizině si založila vlastní vydavatelství\, které teď prosperuje. Jednoho dne se tento kdysi světácký ex-manžel objeví před jejími dveřmi\, avšak už to není ten arogantní a cynický obchodník\, ale zruinovaný muž bez střechy nad hlavou. Jean Pierre přišel\, aby se omluvil\, a jako nezaměstnaný se vlastně zeptal i na práci.Séverine se rozhodne dát mu šanci a nabídne mu místo údržbáře! Jean Pierre tak musí překonat svou hrdost\, obléct si pracovní uniformu\, vzít kartáč a kbelík a přijmout ponížení. Séverine s ním totiž zachází jako s onucí. Ale Jean Pierre není typ\, který by se tak rychle poddal.....Hrají:&nbsp\;Petr Nárožný\, Veronika Freimanová\, Lucie Zedníčková\,&nbsp\;Antonín Procházka / Vasil Fridrich\, Zuzana Žáková / Anna Kotlíková / Karolína Vágnerová\, Robert Hájek / Martin Zahálka ml.\,&nbsp\;Štěpánka Křesťanová&nbsp\;
LOCATION:Kralupy nad Vltavou
END:VEVENT
END:VCALENDAR