BEGIN:VCALENDAR
VERSION:2.0
CALSCALE:GREGORIAN
PRODID:-//MyApp//Calendar 1.0//EN
BEGIN:VEVENT
METHOD:PUBLISH
UID:53037@regionalniportaly.cz
DTSTAMP:20260423T033436Z
DTSTART;VALUE=DATE:20250814
DTEND;VALUE=DATE:20250815
SUMMARY:MAOK - Letní noc
DESCRIPTION:Letní noc s Maokem – hudební zážitek pod hvězdnou oblohouPřijďte prožít magickou letní noc se slovenským hudebníkem Maokem v mystickém nedostavěném gotickém chrámu v Panenském Týnci.Jedinečná energie a atmosféra tohoto místa nám umožní naplno vnímat tajemství letní noci prosycené Maokovou hudbou.Přijďte relaxovat a snít v prostorách\, kde mnozí citliví jedinci vnímají silnou pozitivní energii!Objednáváme příjemnou teplou letní noc\, ale raději upozorňujeme již teď\, že se koncert bude konat za každého počasí.&nbsp\;
LOCATION:Panenský Týnec
END:VEVENT
END:VCALENDAR