BEGIN:VCALENDAR
VERSION:2.0
CALSCALE:GREGORIAN
PRODID:-//MyApp//Calendar 1.0//EN
BEGIN:VEVENT
METHOD:PUBLISH
UID:54696@regionalniportaly.cz
DTSTAMP:20260422T081931Z
DTSTART;VALUE=DATE:20251012
DTEND;VALUE=DATE:20251013
SUMMARY:Život v přítomnosti: Beseda Sandry Pogodové a Tomáše Lukavce
DESCRIPTION:ŽIVOT V PŘÍTOMNOSTI / Inspirativní besedování Sandry Pogodové a Tomáše Lukavce&nbsp\;a ambient music Standy Klapucha&nbsp\;Těšit se můžete na inspirativní povídání Sandry Pogodové a Tomáše Lukavce. Dozvíte se o jejich zážitcích z cest a pobytů v Thajsku\, Tibetu\, na Srí Lance nebo v poušti. Sdílení a poučení z osobních příběhů ze života a&nbsp\;vzájemné inspirování se na cestě k duchovním přeměnám. Hlavně vše s humorem a nadhledem\, tak jak je těmto dvěma úžasňákům vlastní.&nbsp\;Besedy hudebně doladí ostravský skladatel\, muzikant - hudební astronaut Standa Klapuch.
LOCATION:Kralupy nad Vltavou
END:VEVENT
END:VCALENDAR