BEGIN:VCALENDAR
VERSION:2.0
CALSCALE:GREGORIAN
PRODID:-//MyApp//Calendar 1.0//EN
BEGIN:VEVENT
METHOD:PUBLISH
UID:56137@regionalniportaly.cz
DTSTAMP:20260422T081901Z
DTSTART;VALUE=DATE:20260318
DTEND;VALUE=DATE:20260319
SUMMARY:Muzikály Josefa Vojtka v Kralupech nad Vltavou
DESCRIPTION:&nbsp\;„MUZIKÁLY JOSEFA VOJTKA&nbsp\;– Tak trochu rockově“Nenechte si ujít jedinečnou možnost zažít vystoupení jednoho z nejvýraznějších hlasů české rockové a muzikálové scény. Za doprovodu známé&nbsp\;kapely Charlie Band&nbsp\;zazní&nbsp\; písně z muzikálů ve kterých Josef Vojtek účinkoval. Tři Mušketýři\, Angelika\, Kleopatra\, Hamlet\, Dracula\, a mnoho dalších. Připravte se na velkolepý zážitek\, kde se srdce rockera potká s vášní pro muzikály.&nbsp\;
LOCATION:Kralupy nad Vltavou
END:VEVENT
END:VCALENDAR