BEGIN:VCALENDAR
VERSION:2.0
CALSCALE:GREGORIAN
PRODID:-//MyApp//Calendar 1.0//EN
BEGIN:VEVENT
METHOD:PUBLISH
UID:57735@regionalniportaly.cz
DTSTAMP:20260422T115945Z
DTSTART;VALUE=DATE:20250923
DTEND;VALUE=DATE:20250924
SUMMARY:SK Sokol Brozany - SK Slavia Praha | sektor hostů
DESCRIPTION:MOL Cup\, 3. kolo
LOCATION:Brozany nad Ohří
END:VEVENT
END:VCALENDAR