BEGIN:VCALENDAR
VERSION:2.0
CALSCALE:GREGORIAN
PRODID:-//MyApp//Calendar 1.0//EN
BEGIN:VEVENT
METHOD:PUBLISH
UID:57864@regionalniportaly.cz
DTSTAMP:20260424T082926Z
DTSTART;VALUE=DATE:20251004
DTEND;VALUE=DATE:20251005
SUMMARY:Swingový večer Big Band Beta
DESCRIPTION:Swingový večer s Big Band Beta ze Slaného na počest legendárního velvarského bubeníka tanečních večerů Jaroslava Žohy. Přijďte si užít příjemný večer plný swingových a dalších melodií.&nbsp\;
LOCATION:Velvary
END:VEVENT
END:VCALENDAR