BEGIN:VCALENDAR
VERSION:2.0
CALSCALE:GREGORIAN
PRODID:-//MyApp//Calendar 1.0//EN
BEGIN:VEVENT
METHOD:PUBLISH
UID:58763@regionalniportaly.cz
DTSTAMP:20260422T075322Z
DTSTART;VALUE=DATE:20251010
DTEND;VALUE=DATE:20251011
SUMMARY:Koncert filmové hudby 2
DESCRIPTION:Symfonický orchestr Dalibora Havlíčka se po roce vrací do Kralup nad Vltavou s novým koncertem oblíbených filmových melodií.\nNa loňský Koncert filmové hudby orchestr naváže dalšími známými filmovými soundtracky. Uslyšíte melodie z filmů James Bond\, Forrest Gump nebo Pán prstenů. Nebude chybět ani hudba jednoho z největších autorů filmové hudby Ennia Morriconeho\, tentokrát z filmu Hodný\, zlý a ošklivý. Malé posluchače zase jistě potěší melodie z Harryho Pottera\, Pirátů z Karibiku nebo oblíbených českých pohádek.\nTěžiště celého večera však tentokrát bude tvořit muzikálová tvorba. Můžete se těšit na melodie ze světových muzikálů Mamma Mia\, Pomáda či Jesus Christ Superstar. Z českých muzikálů třeba Noc na Karlštejně\, Starci na chmelu nebo Limonádový Joe.\n 
LOCATION:Kralupy nad Vltavou
END:VEVENT
END:VCALENDAR