BEGIN:VCALENDAR
VERSION:2.0
CALSCALE:GREGORIAN
PRODID:-//MyApp//Calendar 1.0//EN
BEGIN:VEVENT
METHOD:PUBLISH
UID:59494@regionalniportaly.cz
DTSTAMP:20260422T080138Z
DTSTART;VALUE=DATE:20251101
DTEND;VALUE=DATE:20251102
SUMMARY:Neklidná noc
DESCRIPTION:V zaprášených denících hraběte Jindřicha Chotka zůstaly stránky\, nadepsané jen slovy: NEKLIDNÁ NOC. Co se tehdy v roce 1862 v zámeckých zdech odehrálo?\n Na Dušičkový večer 1. listopadu 2025 (16:00–19:30) se brány zámku otevřou pro kostýmované noční prohlídky\, které vás vtáhnou do příběhu rodiny majitele zámku a tragické události\, jež se tu odehrála.\n Prohlídky odchází každých 15 minut a trvají přibližně 45 minut. (Poslední prohlídka odchází v 19:30.) Akce není vhodná pro děti.\nKapacita prohlídek je omezená\, proto je doporučené si vstupenky zajistit předem. Možná i rezervace: veltrusy.rezervace@npu.cz
LOCATION:Veltrusy
END:VEVENT
END:VCALENDAR