BEGIN:VCALENDAR
VERSION:2.0
CALSCALE:GREGORIAN
PRODID:-//MyApp//Calendar 1.0//EN
BEGIN:VEVENT
METHOD:PUBLISH
UID:65641@regionalniportaly.cz
DTSTAMP:20260419T181526Z
DTSTART;VALUE=DATE:20260527
DTEND;VALUE=DATE:20260528
SUMMARY:4. velká konference ZEMĚDĚLSTVÍ BUDOUCNOSTI
DESCRIPTION:Cílem této konference je pojmenovat hlavní výzvy a především nabídnout konkrétní\, praktická řešení\, která lze aplikovat v reálných podmínkách českého zemědělství.Program akceKonference je koncipována jako celodenní odborné setkání\, které kombinuje:dopolední blok odborných přednášekodpolední praktické workshopy v menších skupináchprostor pro diskusi\, sdílení zkušeností a osobní setkání s odborníky
LOCATION:Hostivice
END:VEVENT
END:VCALENDAR